BEGIN:VCALENDAR
VERSION:2.0
PRODID:-//Dansk Amerikansk Fodbold Forbund - ECPv6.15.20//NONSGML v1.0//EN
CALSCALE:GREGORIAN
METHOD:PUBLISH
X-ORIGINAL-URL:https://www.daff.dk
X-WR-CALDESC:Begivenheder for Dansk Amerikansk Fodbold Forbund
REFRESH-INTERVAL;VALUE=DURATION:PT1H
X-Robots-Tag:noindex
X-PUBLISHED-TTL:PT1H
BEGIN:VTIMEZONE
TZID:Europe/Copenhagen
BEGIN:DAYLIGHT
TZOFFSETFROM:+0100
TZOFFSETTO:+0200
TZNAME:CEST
DTSTART:20230326T010000
END:DAYLIGHT
BEGIN:STANDARD
TZOFFSETFROM:+0200
TZOFFSETTO:+0100
TZNAME:CET
DTSTART:20231029T010000
END:STANDARD
BEGIN:DAYLIGHT
TZOFFSETFROM:+0100
TZOFFSETTO:+0200
TZNAME:CEST
DTSTART:20240331T010000
END:DAYLIGHT
BEGIN:STANDARD
TZOFFSETFROM:+0200
TZOFFSETTO:+0100
TZNAME:CET
DTSTART:20241027T010000
END:STANDARD
BEGIN:DAYLIGHT
TZOFFSETFROM:+0100
TZOFFSETTO:+0200
TZNAME:CEST
DTSTART:20250330T010000
END:DAYLIGHT
BEGIN:STANDARD
TZOFFSETFROM:+0200
TZOFFSETTO:+0100
TZNAME:CET
DTSTART:20251026T010000
END:STANDARD
END:VTIMEZONE
BEGIN:VEVENT
DTSTART;TZID=Europe/Copenhagen:20240124T180000
DTEND;TZID=Europe/Copenhagen:20240124T210000
DTSTAMP:20260421T131318
CREATED:20231213T153142Z
LAST-MODIFIED:20231213T153142Z
UID:10000036-1706119200-1706130000@www.daff.dk
SUMMARY:Coaching Clinic (v)
DESCRIPTION:Så er det tid til at få ny inspiration til hvordan du kan blive endnu skarpere i din coaching gerning! \nDAFF inviterer til en coaches clinc for alle ambitiøse trænere\, der gerne vil styrke deres spilleres udvikling! Vi dykker ned i forskellige schems og teknikker\, der kan være med til at gøre dine spillere endnu bedre \nVi vil tage en praktisk og teoretisk tilgang til udvikling af schemes\, playbooks osv. samt  eksempler på hvordan en aldersrelaterettræning kan se ud for alle aldersgruppe fra Mikro til Junior. Selvfølgelig med afsæt i DAFF ATK 2.0 \nPris\nGratis\nSe mere her: https://daff.nemtilmeld.dk/913/
URL:https://www.daff.dk/event/coaching-clinic-v/
LOCATION:Vejle atletikstadion\, Helligkildevej 2\, Vejle\, 7100
CATEGORIES:Amerikansk Fodbold
END:VEVENT
END:VCALENDAR