BEGIN:VCALENDAR
VERSION:2.0
PRODID:-//Dansk Amerikansk Fodbold Forbund - ECPv6.15.20//NONSGML v1.0//EN
CALSCALE:GREGORIAN
METHOD:PUBLISH
X-WR-CALNAME:Dansk Amerikansk Fodbold Forbund
X-ORIGINAL-URL:https://www.daff.dk
X-WR-CALDESC:Begivenheder for Dansk Amerikansk Fodbold Forbund
REFRESH-INTERVAL;VALUE=DURATION:PT1H
X-Robots-Tag:noindex
X-PUBLISHED-TTL:PT1H
BEGIN:VTIMEZONE
TZID:Europe/Copenhagen
BEGIN:DAYLIGHT
TZOFFSETFROM:+0100
TZOFFSETTO:+0200
TZNAME:CEST
DTSTART:20220327T010000
END:DAYLIGHT
BEGIN:STANDARD
TZOFFSETFROM:+0200
TZOFFSETTO:+0100
TZNAME:CET
DTSTART:20221030T010000
END:STANDARD
BEGIN:DAYLIGHT
TZOFFSETFROM:+0100
TZOFFSETTO:+0200
TZNAME:CEST
DTSTART:20230326T010000
END:DAYLIGHT
BEGIN:STANDARD
TZOFFSETFROM:+0200
TZOFFSETTO:+0100
TZNAME:CET
DTSTART:20231029T010000
END:STANDARD
BEGIN:DAYLIGHT
TZOFFSETFROM:+0100
TZOFFSETTO:+0200
TZNAME:CEST
DTSTART:20240331T010000
END:DAYLIGHT
BEGIN:STANDARD
TZOFFSETFROM:+0200
TZOFFSETTO:+0100
TZNAME:CET
DTSTART:20241027T010000
END:STANDARD
END:VTIMEZONE
BEGIN:VEVENT
DTSTART;TZID=Europe/Copenhagen:20231028T150000
DTEND;TZID=Europe/Copenhagen:20231028T190000
DTSTAMP:20260421T223121
CREATED:20230801T135251Z
LAST-MODIFIED:20230906T183735Z
UID:10000019-1698505200-1698519600@www.daff.dk
SUMMARY:Herrelandsholdet: Danmark vs. Storbritannien
DESCRIPTION:Herrelandsholdet skal møde en endnu ukendt modstander i kampen om EM. \n28. oktober i Danmark. \nHar du spørgsmål\, så kontakt Head Coach Jakob Zinck Thellufsen på A@daff.dk.
URL:https://www.daff.dk/event/herrelandsholdet-danmark-vs/
LOCATION:Idrættens Hus\, Brøndby Stadion 20\, Brøndby\, 2605\, Danmark
CATEGORIES:Amerikansk Fodbold
END:VEVENT
END:VCALENDAR