BEGIN:VCALENDAR
VERSION:2.0
PRODID:-//Dansk Amerikansk Fodbold Forbund - ECPv6.15.20//NONSGML v1.0//EN
CALSCALE:GREGORIAN
METHOD:PUBLISH
X-ORIGINAL-URL:https://www.daff.dk
X-WR-CALDESC:Begivenheder for Dansk Amerikansk Fodbold Forbund
REFRESH-INTERVAL;VALUE=DURATION:PT1H
X-Robots-Tag:noindex
X-PUBLISHED-TTL:PT1H
BEGIN:VTIMEZONE
TZID:Europe/Copenhagen
BEGIN:DAYLIGHT
TZOFFSETFROM:+0100
TZOFFSETTO:+0200
TZNAME:CEST
DTSTART:20230326T010000
END:DAYLIGHT
BEGIN:STANDARD
TZOFFSETFROM:+0200
TZOFFSETTO:+0100
TZNAME:CET
DTSTART:20231029T010000
END:STANDARD
BEGIN:DAYLIGHT
TZOFFSETFROM:+0100
TZOFFSETTO:+0200
TZNAME:CEST
DTSTART:20240331T010000
END:DAYLIGHT
BEGIN:STANDARD
TZOFFSETFROM:+0200
TZOFFSETTO:+0100
TZNAME:CET
DTSTART:20241027T010000
END:STANDARD
BEGIN:DAYLIGHT
TZOFFSETFROM:+0100
TZOFFSETTO:+0200
TZNAME:CEST
DTSTART:20250330T010000
END:DAYLIGHT
BEGIN:STANDARD
TZOFFSETFROM:+0200
TZOFFSETTO:+0100
TZNAME:CET
DTSTART:20251026T010000
END:STANDARD
END:VTIMEZONE
BEGIN:VEVENT
DTSTART;TZID=Europe/Copenhagen:20240115T170000
DTEND;TZID=Europe/Copenhagen:20240115T210000
DTSTAMP:20260421T180033
CREATED:20231213T152506Z
LAST-MODIFIED:20231213T152506Z
UID:10000034-1705338000-1705352400@www.daff.dk
SUMMARY:QB Udviklingsprogram 2023-2024 (v)
DESCRIPTION:DAFF's Quarterback-udviklingsprogram er åbent for alle i aldersgruppen 14-19 år (2009-2004). \nHvis man gerne vil deltage\, er der en forventning om at man kan deltage i alle træningen. Udebliver man fra en træning vil der være et gebyr på 500 kr. pr. træning. Lovligt fravær kan aftales med DAFF. \nDer er begrænset antal pladser - 20 pladser i øst og 20 pladser i vest. \nOBS - Spillere der er Kadet og Development skal have en godkendelse fra deres forældre\, for at få lov til at deltage. Dette gøres ved at sende mail til DAFFs praktikant Kasper Jørgensen kajo@daffmail.dk  \nSe mere her: https://daff.nemtilmeld.dk/923/
URL:https://www.daff.dk/event/qb-udviklingsprogram-2023-2024-v/
LOCATION:Idrættens Hus\, Brøndby Stadion 20\, Brøndby\, 2605\, Danmark
CATEGORIES:Amerikansk Fodbold
END:VEVENT
BEGIN:VEVENT
DTSTART;TZID=Europe/Copenhagen:20240117T170000
DTEND;TZID=Europe/Copenhagen:20240117T210000
DTSTAMP:20260421T180033
CREATED:20231213T152603Z
LAST-MODIFIED:20231213T152603Z
UID:10000035-1705510800-1705525200@www.daff.dk
SUMMARY:QB Udviklingsprogram 2023-2024 (ø)
DESCRIPTION:DAFF's Quarterback-udviklingsprogram er åbent for alle i aldersgruppen 14-19 år (2009-2004). \nHvis man gerne vil deltage\, er der en forventning om at man kan deltage i alle træningen. Udebliver man fra en træning vil der være et gebyr på 500 kr. pr. træning. Lovligt fravær kan aftales med DAFF. \nDer er begrænset antal pladser - 20 pladser i øst og 20 pladser i vest. \nOBS - Spillere der er Kadet og Development skal have en godkendelse fra deres forældre\, for at få lov til at deltage. Dette gøres ved at sende mail til DAFFs praktikant Kasper Jørgensen kajo@daffmail.dk  \nSe mere her: https://daff.nemtilmeld.dk/923/
URL:https://www.daff.dk/event/qb-udviklingsprogram-2023-2024-oe/
LOCATION:BGI\, Gramvej 3\, Hornsyld\, 8783\, Danmark
CATEGORIES:Amerikansk Fodbold
END:VEVENT
END:VCALENDAR