BEGIN:VCALENDAR
VERSION:2.0
PRODID:-//Dansk Amerikansk Fodbold Forbund - ECPv6.15.20//NONSGML v1.0//EN
CALSCALE:GREGORIAN
METHOD:PUBLISH
X-ORIGINAL-URL:https://www.daff.dk
X-WR-CALDESC:Begivenheder for Dansk Amerikansk Fodbold Forbund
REFRESH-INTERVAL;VALUE=DURATION:PT1H
X-Robots-Tag:noindex
X-PUBLISHED-TTL:PT1H
BEGIN:VTIMEZONE
TZID:Europe/Copenhagen
BEGIN:DAYLIGHT
TZOFFSETFROM:+0100
TZOFFSETTO:+0200
TZNAME:CEST
DTSTART:20230326T010000
END:DAYLIGHT
BEGIN:STANDARD
TZOFFSETFROM:+0200
TZOFFSETTO:+0100
TZNAME:CET
DTSTART:20231029T010000
END:STANDARD
BEGIN:DAYLIGHT
TZOFFSETFROM:+0100
TZOFFSETTO:+0200
TZNAME:CEST
DTSTART:20240331T010000
END:DAYLIGHT
BEGIN:STANDARD
TZOFFSETFROM:+0200
TZOFFSETTO:+0100
TZNAME:CET
DTSTART:20241027T010000
END:STANDARD
BEGIN:DAYLIGHT
TZOFFSETFROM:+0100
TZOFFSETTO:+0200
TZNAME:CEST
DTSTART:20250330T010000
END:DAYLIGHT
BEGIN:STANDARD
TZOFFSETFROM:+0200
TZOFFSETTO:+0100
TZNAME:CET
DTSTART:20251026T010000
END:STANDARD
END:VTIMEZONE
BEGIN:VEVENT
DTSTART;TZID=Europe/Copenhagen:20240327T080000
DTEND;TZID=Europe/Copenhagen:20240331T170000
DTSTAMP:20260421T072339
CREATED:20240119T110214Z
LAST-MODIFIED:20240313T123038Z
UID:10000047-1711526400-1711904400@www.daff.dk
SUMMARY:U19-landsholdet: Camp
DESCRIPTION:
URL:https://www.daff.dk/event/u19-camp-4/
LOCATION:Idrættens Hus\, Brøndby Stadion 20\, Brøndby\, 2605\, Danmark
CATEGORIES:Amerikansk Fodbold
END:VEVENT
BEGIN:VEVENT
DTSTART;TZID=Europe/Copenhagen:20240331T140000
DTEND;TZID=Europe/Copenhagen:20240331T170000
DTSTAMP:20260421T072339
CREATED:20240313T123805Z
LAST-MODIFIED:20240313T133816Z
UID:10000051-1711893600-1711904400@www.daff.dk
SUMMARY:U19-landsholdet: Sverige vs. Danmark
DESCRIPTION:U19-landholdet skal spilles EM kvalifikationskamp mod Sverige. \nDato: 31. marts \nKick off: 14:00 \nSe hele rosteren og trænerstab her: https://www.daff.dk/amerikansk-fodbold/landshold/u19-landsholdet/ \nIndgangene åbner kl. 13.00\, kampstart kl. 14. Gå ikke glip af tailgate uden for arenaen før kampen med mad og underholdning! \nKøb din billet på Tickster: https://www.tickster.com/sv/events/ndxpn3nrfxfa4h9/2024-03-31/junior-em-amerikansk-fotboll-sverige-danmark \nDanmark deltager i EM-gruppe B sammen med Sverige og Tyskland. Efter kampen mod Sverige i Kristianstad spiller Danmark mod Tyskland på Vejle Atletik Stadion den 11. maj 2024. Vinderen af gruppen går videre til EM-slutrunden og spiller om pladserne 1-3 i 2025. Nummer 2 og 3 i gruppen spiller om pladserne 4-7 i 2025.
URL:https://www.daff.dk/event/u19-landsholdet-sverige-vs-danmark/
LOCATION:Kristianstad IP\, Ringvägen 14\, Kristianstad\, 291 54\, Sweden
CATEGORIES:Amerikansk Fodbold
END:VEVENT
END:VCALENDAR