BEGIN:VCALENDAR
VERSION:2.0
PRODID:-//Dansk Amerikansk Fodbold Forbund - ECPv6.15.20//NONSGML v1.0//EN
CALSCALE:GREGORIAN
METHOD:PUBLISH
X-ORIGINAL-URL:https://www.daff.dk
X-WR-CALDESC:Begivenheder for Dansk Amerikansk Fodbold Forbund
REFRESH-INTERVAL;VALUE=DURATION:PT1H
X-Robots-Tag:noindex
X-PUBLISHED-TTL:PT1H
BEGIN:VTIMEZONE
TZID:Europe/Copenhagen
BEGIN:DAYLIGHT
TZOFFSETFROM:+0100
TZOFFSETTO:+0200
TZNAME:CEST
DTSTART:20250330T010000
END:DAYLIGHT
BEGIN:STANDARD
TZOFFSETFROM:+0200
TZOFFSETTO:+0100
TZNAME:CET
DTSTART:20251026T010000
END:STANDARD
BEGIN:DAYLIGHT
TZOFFSETFROM:+0100
TZOFFSETTO:+0200
TZNAME:CEST
DTSTART:20260329T010000
END:DAYLIGHT
BEGIN:STANDARD
TZOFFSETFROM:+0200
TZOFFSETTO:+0100
TZNAME:CET
DTSTART:20261025T010000
END:STANDARD
BEGIN:DAYLIGHT
TZOFFSETFROM:+0100
TZOFFSETTO:+0200
TZNAME:CEST
DTSTART:20270328T010000
END:DAYLIGHT
BEGIN:STANDARD
TZOFFSETFROM:+0200
TZOFFSETTO:+0100
TZNAME:CET
DTSTART:20271031T010000
END:STANDARD
END:VTIMEZONE
BEGIN:VEVENT
DTSTART;TZID=Europe/Copenhagen:20260321T100000
DTEND;TZID=Europe/Copenhagen:20260321T170000
DTSTAMP:20260425T151320
CREATED:20260126T093146Z
LAST-MODIFIED:20260126T093146Z
UID:10000135-1774087200-1774112400@www.daff.dk
SUMMARY:Cheerleading Camp med Det Danske Cheerleading Landshold
DESCRIPTION:Vil du træne med landsholdet og få inspiration fra nogle af de bedste i dansk cheerleading? \nKom med til en intensiv camp\, hvor du bliver undervist af atleterne fra All Girl og COED landsholdet – og får en dag fyldt med skills\, fællesskab og cheerglæde \n📅 Lørdag d. 21. marts\n📍 Sorø Hallen\, Ringstedvej 20\, 4180 Sorø\n💰 Pris: 400 kr \n🕒 Camp 1 – Mini (alle levels): 10.00–13.30\n🕒 Camp 2 – Youth\, Junior & Senior (alle levels): 14.00–17.30 \n✅ Fokus på stunts\, tumbling\, baskets\, pyramider\n🎁 Inkl. Team Denmark badge + armbånd\n👥 Begrænsede pladser: 50 pr. camp \n⏳ Deadline for tilmelding: 15/03 kl. 23.59 \n👉 Tilmeld dig her:\nhttps://www.holdsport.dk/public_ticket_events/cheer-camp-med-de-danske-cheerleadinglandshold--2
URL:https://www.daff.dk/event/cheerleading-camp-med-det-danske-cheerleading-landshold/
LOCATION:Sorø Hallen\, Ringstedvej 20\, Sorø\, 4180
CATEGORIES:Cheerleading
END:VEVENT
END:VCALENDAR