BEGIN:VCALENDAR
VERSION:2.0
PRODID:-//Dansk Amerikansk Fodbold Forbund - ECPv6.15.20//NONSGML v1.0//EN
CALSCALE:GREGORIAN
METHOD:PUBLISH
X-WR-CALNAME:Dansk Amerikansk Fodbold Forbund
X-ORIGINAL-URL:https://www.daff.dk
X-WR-CALDESC:Begivenheder for Dansk Amerikansk Fodbold Forbund
REFRESH-INTERVAL;VALUE=DURATION:PT1H
X-Robots-Tag:noindex
X-PUBLISHED-TTL:PT1H
BEGIN:VTIMEZONE
TZID:Europe/Copenhagen
BEGIN:DAYLIGHT
TZOFFSETFROM:+0100
TZOFFSETTO:+0200
TZNAME:CEST
DTSTART:20230326T010000
END:DAYLIGHT
BEGIN:STANDARD
TZOFFSETFROM:+0200
TZOFFSETTO:+0100
TZNAME:CET
DTSTART:20231029T010000
END:STANDARD
BEGIN:DAYLIGHT
TZOFFSETFROM:+0100
TZOFFSETTO:+0200
TZNAME:CEST
DTSTART:20240331T010000
END:DAYLIGHT
BEGIN:STANDARD
TZOFFSETFROM:+0200
TZOFFSETTO:+0100
TZNAME:CET
DTSTART:20241027T010000
END:STANDARD
BEGIN:DAYLIGHT
TZOFFSETFROM:+0100
TZOFFSETTO:+0200
TZNAME:CEST
DTSTART:20250330T010000
END:DAYLIGHT
BEGIN:STANDARD
TZOFFSETFROM:+0200
TZOFFSETTO:+0100
TZNAME:CET
DTSTART:20251026T010000
END:STANDARD
END:VTIMEZONE
BEGIN:VEVENT
DTSTART;TZID=Europe/Copenhagen:20240203T090000
DTEND;TZID=Europe/Copenhagen:20240203T170000
DTSTAMP:20260421T113936
CREATED:20231213T160526Z
LAST-MODIFIED:20231213T160732Z
UID:10000038-1706950800-1706979600@www.daff.dk
SUMMARY:Super Bowl Åben flag football turnering: Aarhus
DESCRIPTION:Synes du at NFL er super fedt!? Er du også til lækre catches\, fantastiske kast med det ovale læder? - så er flag football noget for dig. \nFlag football er en afart af amerikansk fodbold\, hvor fokus er lagt på speed\, bevægelighed og teknik. Man spiller 5 mod 5 på en mindre bane og i stedet for at tackle fysisk\, tackler man ved hjælp af 2 såkaldte "flag" monteret på spillernes hofter. \nI weekenden før Super Bowl-weekenden lørdag den 3. februar 2024 afholder DAFF igen åben flag football-turnering. Sidste år samledes 12 hold til en dag fyldt med hygge og god konkurrence\, så football-glæden var i top til Super Bowl. Turneringen er tiltænkt alle\, der gerne vil prøve kræfter med flag football. Det er ikke et krav\, at man har prøvet spillet før - turneringen er åben både for nybegyndere og erfarne spillere. Der er ingen begrænsninger i antallet af spillere med licens. Spillere\, der tidligere har haft flaglicens\, og aktive tacklespillere er mere end velkomne! \nDet er GRATIS at deltage. \nSted: Aarhus Tigers Idrætsanlæg\, Aarhus \nTid: kl. 9:00 - 16:00. Alle spillere og hold mødes kl. 9.00. De første kampe starter kl. 9.30. \nTilmelding: \nHoldtilmelding: 1 holdrepræsentant tilmelder holdet via billettypen “HOLD”. Et hold skal bestå af minimum 6 spillere for at kunne tilmelde sig. \nFree agent-tilmelding: Enkeltpersoner tilmelder sig via billettypen “Free agent”. \nHvis man tilmelder sig som free agent\, vil man enten blive sat på et eksisterende hold eller danne et hold med andre free agents. \nTilmeldingsfrist: onsdag 1. februar 2024 \nTurneringen er for både mænd og kvinder. Der spilles på kunstgræs. \nDet er ikke et krav\, at man har prøvet spillet før. Eksisterende spillere er også meget velkomne til at deltage! \nDer vil være mulighed for at låne flag og bolde på stedet. \n  \nOBS: \nMedbring både mørk og hvid trøje. \nMan må kun spille i shorts/bukser UDEN lommer\, da man ellers risikerer nogle grimme fingerskader. \nDet er en god idé at spille i ensfarvede t-shirts\, men dette er ikke et krav. \nAldersgrænsen er minimum 14 år. \n 
URL:https://www.daff.dk/event/super-bowl-aaben-flag-football-turnering-aarhus/
LOCATION:Gemmas Allé 203\, 2770 Kastrup\, Gemmas Allé 203\, Kastrup\, 2770\, Danmark
CATEGORIES:Amerikansk Fodbold,Flag Football
ATTACH;FMTTYPE=image/png:https://www.daff.dk/wp-content/uploads/2023/11/super-bowl-2.png
END:VEVENT
BEGIN:VEVENT
DTSTART;TZID=Europe/Copenhagen:20240203T100000
DTEND;TZID=Europe/Copenhagen:20240203T143000
DTSTAMP:20260421T113936
CREATED:20240118T133724Z
LAST-MODIFIED:20240118T134553Z
UID:10000042-1706954400-1706970600@www.daff.dk
SUMMARY:Vinter Camp (Development/Kadet) - Horsens
DESCRIPTION:Alle spillere\, både erfarende og nye\, er velkommende. Campen er lavet med et fokus på Development årgangen og henvender sig til Kadet oprykkere\, nye og øvede Developmentspillere samt nye junior spillere. Campen skal styrke den enkelte spillers udvikling gennem aldersrelateret træning. \nDAFF sætter igen i år et fokus på de trænere der deltager. Fokus vil være at styrke trænernes kompetencer\, gennem supervisering og dialog omkring egen praksis i den konkrete træningskontekst. \nHusk at skrive i tilmeldingen hvilken position du gerne vil træne/spille\, og hvis du er helt ny\, så skriver du blot dette. \nTilmeld her: https://daff.nemtilmeld.dk/958/\n \nDato og tid\nLørdag d. 3. februar 2024 \nkl. 10:00 til 14:30 \nTilmeldingsfrist\nOnsdag d. 31. januar 2024 kl. 13:00
URL:https://www.daff.dk/event/vinter-camp-development-kadet-horsens/
LOCATION:Horsens Stallions\, Fussingsvej 65\, Horsens\, 8700
CATEGORIES:Amerikansk Fodbold
END:VEVENT
BEGIN:VEVENT
DTSTART;TZID=Europe/Copenhagen:20240205T000000
DTEND;TZID=Europe/Copenhagen:20240205T235959
DTSTAMP:20260421T113936
CREATED:20230906T174118Z
LAST-MODIFIED:20230906T174118Z
UID:10000025-1707091200-1707177599@www.daff.dk
SUMMARY:Postionstræner OL Øst & Vest
DESCRIPTION:DAFF’s positionstrænerkurser er for træneren på alle niveauer. Om du er helt ny eller har stor erfaring vil positionstrænerkurserne være noget for dig. På disse kurser sætter vi et detaljeret fokus på de enkelte positioner\, og forsøger at give et mere nuanceret billede af både teknik og taktik\, der har betydning for succes på positionen. Underviserne på kurserne vil være forskellige trænere\, der selv har arbejdet med positionen i flere år\, og som har lyst til at lære fra sig. \nFormål \nPositionstrænerkurset skal være med til at gøre dig bedre som teknisk og taktisk træner. Kurset vil derfor være med stort fokus på hvordan vi coacher og giver feedback samt hvilke overvejelser den enkelte position kræver. Du vil blive introduceret til teknikker\, taktikker og generelle tanker for den enkelte position. \nTilmelding sker på daff.nemtilmeld.dk. Der skal oplyses navn\, alder\, mail og klub på de personer\, der tilmeldes. \nOL Øst & Vest: mandag: d. 5. februar 2024\nTræning for små hold Øst & Vest: mandag : d. 16. februar 2024
URL:https://www.daff.dk/event/postionstraener-ol-oest-vest/
LOCATION:Idrættens Hus\, Brøndby Stadion 20\, Brøndby\, 2605\, Danmark
CATEGORIES:Amerikansk Fodbold
END:VEVENT
BEGIN:VEVENT
DTSTART;TZID=Europe/Copenhagen:20240205T080000
DTEND;TZID=Europe/Copenhagen:20240205T170000
DTSTAMP:20260421T113936
CREATED:20231128T112426Z
LAST-MODIFIED:20240124T125033Z
UID:10000033-1707120000-1707152400@www.daff.dk
SUMMARY:Talent- og eliteseminar
DESCRIPTION:Lørdag d. 13. januar 2024 afholder vi talent- og eliteseminar på Scandic i Odense kl. 10-16.\n\nSeminaret er primært for trænere\, der træner udøverne på landshold og højeste niveau i klubhold. Dog er andre trænere også meget velkomne\, hvis dagen kunne have interesse.\n\nTemaet for dagen er ”mentaltræning – med afsæt i praksis”\, og vi får besøg af Kasper Henriksen fra Mental Motion\, der vil komme med konkrete bud på hvordan man arbejder med det mentale aspekt hos jeres udøvere.\n\nDeadline for tilmelding er d. 15. december 2023. \nTilmeld dig her: https://daff.nemtilmeld.dk/944/
URL:https://www.daff.dk/event/talent-og-eliteseminar/
LOCATION:Scandic Odense\, Hvidkærvej 25\, Odense\, 5250\, Danmark
CATEGORIES:Amerikansk Fodbold
END:VEVENT
BEGIN:VEVENT
DTSTART;TZID=Europe/Copenhagen:20240210T090000
DTEND;TZID=Europe/Copenhagen:20240210T170000
DTSTAMP:20260421T113936
CREATED:20231128T111524Z
LAST-MODIFIED:20231213T160723Z
UID:10000032-1707555600-1707584400@www.daff.dk
SUMMARY:Super Bowl Åben flag football turnering: Amager
DESCRIPTION:Synes du at NFL er super fedt!? Er du også til lækre catches\, fantastiske kast med det ovale læder? - så er flag football noget for dig. \nFlag football er en afart af amerikansk fodbold\, hvor fokus er lagt på speed\, bevægelighed og teknik. Man spiller 5 mod 5 på en mindre bane og i stedet for at tackle fysisk\, tackler man ved hjælp af 2 såkaldte "flag" monteret på spillernes hofter. \nI Super Bowl-weekenden lørdag den 10. februar 2024 afholder DAFF igen åben flag football-turnering. Sidste år samledes 12 hold til en dag fyldt med hygge og god konkurrence\, så football-glæden var i top til Super Bowl. Turneringen er tiltænkt alle\, der gerne vil prøve kræfter med flag football. Det er ikke et krav\, at man har prøvet spillet før - turneringen er åben både for nybegyndere og erfarne spillere. Der er ingen begrænsninger i antallet af spillere med licens. Spillere\, der tidligere har haft flaglicens\, og aktive tacklespillere er mere end velkomne! \nDet er GRATIS at deltage. \nSted: Adresse: Gemmas Allé 203\, 2770 Kastrup \nTid: kl. 9:00 - 16:00. Alle spillere og hold mødes kl. 9.00. De første kampe starter kl. 9.30. \nTilmelding: \nHoldtilmelding: 1 holdrepræsentant tilmelder holdet via billettypen “HOLD”. Et hold skal bestå af minimum 6 spillere for at kunne tilmelde sig. \nFree agent-tilmelding: Enkeltpersoner tilmelder sig via billettypen “Free agent”. \nHvis man tilmelder sig som free agent\, vil man enten blive sat på et eksisterende hold eller danne et hold med andre free agents. \nTilmeldingsfrist: onsdag 7. februar 2024 \nTurneringen er for både mænd og kvinder. Der spilles på kunstgræs. \nDet er ikke et krav\, at man har prøvet spillet før. Eksisterende spillere er også meget velkomne til at deltage! \nDer vil være mulighed for at låne flag og bolde på stedet. \n  \nOBS: \nMedbring både mørk og hvid trøje. \nMan må kun spille i shorts/bukser UDEN lommer\, da man ellers risikerer nogle grimme fingerskader. \nDet er en god idé at spille i ensfarvede t-shirts\, men dette er ikke et krav. \nAldersgrænsen er minimum 14 år. \n 
URL:https://www.daff.dk/event/super-bowl-aaben-flag-football-turnering/
LOCATION:Gemmas Allé 203\, 2770 Kastrup\, Gemmas Allé 203\, Kastrup\, 2770\, Danmark
CATEGORIES:Amerikansk Fodbold,Flag Football
ATTACH;FMTTYPE=image/png:https://www.daff.dk/wp-content/uploads/2023/11/super-bowl-2.png
END:VEVENT
BEGIN:VEVENT
DTSTART;TZID=Europe/Copenhagen:20240212T170000
DTEND;TZID=Europe/Copenhagen:20240212T210000
DTSTAMP:20260421T113936
CREATED:20231213T160824Z
LAST-MODIFIED:20231213T160824Z
UID:10000039-1707757200-1707771600@www.daff.dk
SUMMARY:QB Udviklingsprogram 2023-2024 (v)
DESCRIPTION:DAFF's Quarterback-udviklingsprogram er åbent for alle i aldersgruppen 14-19 år (2009-2004). \nHvis man gerne vil deltage\, er der en forventning om at man kan deltage i alle træningen. Udebliver man fra en træning vil der være et gebyr på 500 kr. pr. træning. Lovligt fravær kan aftales med DAFF. \nDer er begrænset antal pladser - 20 pladser i øst og 20 pladser i vest. \nOBS - Spillere der er Kadet og Development skal have en godkendelse fra deres forældre\, for at få lov til at deltage. Dette gøres ved at sende mail til DAFFs praktikant Kasper Jørgensen kajo@daffmail.dk  \nSe mere her: https://daff.nemtilmeld.dk/923/
URL:https://www.daff.dk/event/qb-udviklingsprogram-2023-2024-v-2/
LOCATION:Idrættens Hus\, Brøndby Stadion 20\, Brøndby\, 2605\, Danmark
CATEGORIES:Amerikansk Fodbold
END:VEVENT
BEGIN:VEVENT
DTSTART;TZID=Europe/Copenhagen:20240215T170000
DTEND;TZID=Europe/Copenhagen:20240215T210000
DTSTAMP:20260421T113936
CREATED:20231213T160840Z
LAST-MODIFIED:20231213T160840Z
UID:10000040-1708016400-1708030800@www.daff.dk
SUMMARY:QB Udviklingsprogram 2023-2024 (ø)
DESCRIPTION:DAFF's Quarterback-udviklingsprogram er åbent for alle i aldersgruppen 14-19 år (2009-2004). \nHvis man gerne vil deltage\, er der en forventning om at man kan deltage i alle træningen. Udebliver man fra en træning vil der være et gebyr på 500 kr. pr. træning. Lovligt fravær kan aftales med DAFF. \nDer er begrænset antal pladser - 20 pladser i øst og 20 pladser i vest. \nOBS - Spillere der er Kadet og Development skal have en godkendelse fra deres forældre\, for at få lov til at deltage. Dette gøres ved at sende mail til DAFFs praktikant Kasper Jørgensen kajo@daffmail.dk  \nSe mere her: https://daff.nemtilmeld.dk/923/
URL:https://www.daff.dk/event/qb-udviklingsprogram-2023-2024-oe-2/
LOCATION:BGI\, Gramvej 3\, Hornsyld\, 8783\, Danmark
CATEGORIES:Amerikansk Fodbold
END:VEVENT
BEGIN:VEVENT
DTSTART;TZID=Europe/Copenhagen:20240223T000000
DTEND;TZID=Europe/Copenhagen:20240225T235959
DTSTAMP:20260421T113936
CREATED:20230906T173000Z
LAST-MODIFIED:20230906T173000Z
UID:10000023-1708646400-1708905599@www.daff.dk
SUMMARY:B-trænerkursus ØST & VEST
DESCRIPTION:Træner B er for den erfarne træner\, der har været træner i 2-4 år\, eller en spiller der har stort kendskab til sporten gennem flere års deltagelse. Træner B skal være med til at give dybere indsigt i værktøjer\, der kan udvikle gode trænings- og idrætsmiljøer. Træner B har til formål at gøre træneren mere bevidst om sin egen trænerfilosofi\, og dens indvirkning på emner som f.eks. fastholdelse\, forældrehåndtering og den gode træning. \nFormål \nTræner B skal give den erfarende træner et udvidet kendskab til værktøjer\, der skal være med til at fremme det gode idræts- og træningsmiljø. Både på teoretisk og praktisk niveau. Uddannelsen vil centreres om træneres filosofi herunder fokus på værdier\, drømme og handlinger. Derigennem vil træneres egen praksis skulle undersøges med henblik på en større indsigt gennem dialog og diskussion. \nFor at færdiggøre træner B skal du ligeledes gennemføre DIF Træner 1 samt tre positionstrænerkurser. \nUddannelsens opbygning  \nKurset består af en DAFF-del\, DIF-del og 3 positionstrænerkurser efter valg. Alle dele skal gennemføres før kurset er bestået. Dette kan gøres inden for en tidsramme af tre år. \nOBS! Vi råder trænere til at gennemfører DAFF-delen og DIF-delen samme år. \nPostionstræner kurserne kan tages\, når det passer træneren og skal ikke nødvendigvis være gennemført inden kursusstart. \nKursets DIF-del\, gennemføres på én lørdag fra kl. 9.00 -18.00 + 4 timers E- læring\, der skal gennemføres før kurset. \nTilmelding \nTilmelding sker på daff.nemtilmeld.dk. Der skal oplyses navn\, alder\, mail og klub på de personer\, der tilmeldes.
URL:https://www.daff.dk/event/b-traenerkursus-oest-vest/
LOCATION:BGI\, Gramvej 3\, Hornsyld\, 8783\, Danmark
CATEGORIES:Amerikansk Fodbold
END:VEVENT
BEGIN:VEVENT
DTSTART;TZID=Europe/Copenhagen:20240225T100000
DTEND;TZID=Europe/Copenhagen:20240225T153000
DTSTAMP:20260421T113936
CREATED:20240118T133944Z
LAST-MODIFIED:20240118T134412Z
UID:10000043-1708855200-1708875000@www.daff.dk
SUMMARY:Vinter Camp (Development/Kadet) - Næstved
DESCRIPTION:Alle spillere\, både erfarende og nye\, er velkomne. Campen er lavet med et fokus på Development årgangen og henvender sig til Kadet oprykkere\, nye og øvede Developmentspillere samt nye junior spillere. Campen skal styrke den enkelte spillers udvikling gennem aldersrelateret træning. \nDAFF sætter igen i år et fokus på de trænere der deltager. Fokus vil være at styrke trænernes kompetencer\, gennem supervisering og dialog omkring egen praksis i den konkrete træningskontekst. \nHusk at skrive i tilmeldingen hvilken position du gerne vil træne/spille\, og hvis du er helt ny\, så skriver du blot dette. \nTilmeld her: https://daff.nemtilmeld.dk/959/\n \nDato og tid\nSøndag d. 25. februar 2024 \nkl. 10:00 til 15:30 \nTilmeldingsfrist\nTorsdag d. 22. februar 2024 kl. 13:00
URL:https://www.daff.dk/event/vinter-camp-development-kadet-naestved/
LOCATION:Næstved Vikings\, Nygårdsvej 104\, Næstved\, 4700\, Danmark
CATEGORIES:Amerikansk Fodbold
END:VEVENT
END:VCALENDAR