BEGIN:VCALENDAR
VERSION:2.0
PRODID:-//Dansk Amerikansk Fodbold Forbund - ECPv6.15.20//NONSGML v1.0//EN
CALSCALE:GREGORIAN
METHOD:PUBLISH
X-WR-CALNAME:Dansk Amerikansk Fodbold Forbund
X-ORIGINAL-URL:https://www.daff.dk
X-WR-CALDESC:Begivenheder for Dansk Amerikansk Fodbold Forbund
REFRESH-INTERVAL;VALUE=DURATION:PT1H
X-Robots-Tag:noindex
X-PUBLISHED-TTL:PT1H
BEGIN:VTIMEZONE
TZID:Europe/Copenhagen
BEGIN:DAYLIGHT
TZOFFSETFROM:+0100
TZOFFSETTO:+0200
TZNAME:CEST
DTSTART:20220327T010000
END:DAYLIGHT
BEGIN:STANDARD
TZOFFSETFROM:+0200
TZOFFSETTO:+0100
TZNAME:CET
DTSTART:20221030T010000
END:STANDARD
BEGIN:DAYLIGHT
TZOFFSETFROM:+0100
TZOFFSETTO:+0200
TZNAME:CEST
DTSTART:20230326T010000
END:DAYLIGHT
BEGIN:STANDARD
TZOFFSETFROM:+0200
TZOFFSETTO:+0100
TZNAME:CET
DTSTART:20231029T010000
END:STANDARD
BEGIN:DAYLIGHT
TZOFFSETFROM:+0100
TZOFFSETTO:+0200
TZNAME:CEST
DTSTART:20240331T010000
END:DAYLIGHT
BEGIN:STANDARD
TZOFFSETFROM:+0200
TZOFFSETTO:+0100
TZNAME:CET
DTSTART:20241027T010000
END:STANDARD
END:VTIMEZONE
BEGIN:VEVENT
DTSTART;TZID=Europe/Copenhagen:20230805T160000
DTEND;TZID=Europe/Copenhagen:20230805T190000
DTSTAMP:20260422T124122
CREATED:20230801T130151Z
LAST-MODIFIED:20230801T130744Z
UID:10000004-1691251200-1691262000@www.daff.dk
SUMMARY:Herrelandsholdet: Danmark vs. Serbien
DESCRIPTION:5. august slår vi dørene op på Gentofte Stadion\, når Herrelandsholdet skal møde Serbien ved Europamesterskaberne. \nI 2022 blev Danmark 2’er i kvalifikationsrunden med en sejr over Tjekkiet og et nederlag til Finland. Danmark er derfor placeret i 2’er puljen\, sammen med Serbien\, Frankrig og Storbritannien der spiller om pladserne 5-8 ved EM. Den anden semifinale i 2’er puljen spilles sammen dag\, hvor Frankrig og Storbritannien mødes. \nVinderne og taberne af de to semifinaler mødes i oktober. Modstander\, tid og sted er endnu ikke fastlagt. \nI 1’er puljen spiller: Finland\, Sverige\, Østrig og Italien. De spiller om pladserne 1-4 ved EM. \nKøb din billet inden her: https://boldbillet.dk/show/event/danmark-vs-serbien-5-aug-2023 \nKick off: 16:00 \nSted: Gentofte Stadion \nStreaming: https://www.youtube.com/watch?v=4rbzoNFuInA \nSe Danmarks roster her: https://www.daff.dk/herrelandsholdet-i-amerikansk-fodbold-udtaget-til-kampen-mod-serbien/ \nSe Facebook event her: https://www.facebook.com/events/585506197061023
URL:https://www.daff.dk/event/herrelandsholdet-danmark-vs-serbien/
LOCATION:Gentofte Sportspark\, Ved Stadion 10\, Gentofte\, 2820\, Danmark
CATEGORIES:Amerikansk Fodbold
END:VEVENT
END:VCALENDAR