BEGIN:VCALENDAR
VERSION:2.0
PRODID:-//Dansk Amerikansk Fodbold Forbund - ECPv6.15.20//NONSGML v1.0//EN
CALSCALE:GREGORIAN
METHOD:PUBLISH
X-WR-CALNAME:Dansk Amerikansk Fodbold Forbund
X-ORIGINAL-URL:https://www.daff.dk
X-WR-CALDESC:Begivenheder for Dansk Amerikansk Fodbold Forbund
REFRESH-INTERVAL;VALUE=DURATION:PT1H
X-Robots-Tag:noindex
X-PUBLISHED-TTL:PT1H
BEGIN:VTIMEZONE
TZID:Europe/Copenhagen
BEGIN:DAYLIGHT
TZOFFSETFROM:+0100
TZOFFSETTO:+0200
TZNAME:CEST
DTSTART:20220327T010000
END:DAYLIGHT
BEGIN:STANDARD
TZOFFSETFROM:+0200
TZOFFSETTO:+0100
TZNAME:CET
DTSTART:20221030T010000
END:STANDARD
BEGIN:DAYLIGHT
TZOFFSETFROM:+0100
TZOFFSETTO:+0200
TZNAME:CEST
DTSTART:20230326T010000
END:DAYLIGHT
BEGIN:STANDARD
TZOFFSETFROM:+0200
TZOFFSETTO:+0100
TZNAME:CET
DTSTART:20231029T010000
END:STANDARD
BEGIN:DAYLIGHT
TZOFFSETFROM:+0100
TZOFFSETTO:+0200
TZNAME:CEST
DTSTART:20240331T010000
END:DAYLIGHT
BEGIN:STANDARD
TZOFFSETFROM:+0200
TZOFFSETTO:+0100
TZNAME:CET
DTSTART:20241027T010000
END:STANDARD
END:VTIMEZONE
BEGIN:VEVENT
DTSTART;TZID=Europe/Copenhagen:20230920T180000
DTEND;TZID=Europe/Copenhagen:20230920T210000
DTSTAMP:20260421T201458
CREATED:20230801T134618Z
LAST-MODIFIED:20230801T134618Z
UID:10000013-1695232800-1695243600@www.daff.dk
SUMMARY:Budgetmøde 2023
DESCRIPTION:Budgetmødet afholdes for alle klubber\, hvor formænd og kasserer gerne må deltage. Mødet er online og varer ofte et par timer. Budgettet udsendes et par uger inden mødet\, så der er tid til at gennemgå budgetudkastet hjemme i klubben. \nTilmelding til mødet sendes til formanden i slutningen af august.
URL:https://www.daff.dk/event/budgetmoede-2023/
LOCATION:Online\, Danmark
CATEGORIES:Amerikansk Fodbold,Cheerleading,Flag Football
END:VEVENT
END:VCALENDAR