BEGIN:VCALENDAR
VERSION:2.0
PRODID:-//Dansk Amerikansk Fodbold Forbund - ECPv6.15.20//NONSGML v1.0//EN
CALSCALE:GREGORIAN
METHOD:PUBLISH
X-ORIGINAL-URL:https://www.daff.dk
X-WR-CALDESC:Begivenheder for Dansk Amerikansk Fodbold Forbund
REFRESH-INTERVAL;VALUE=DURATION:PT1H
X-Robots-Tag:noindex
X-PUBLISHED-TTL:PT1H
BEGIN:VTIMEZONE
TZID:Europe/Copenhagen
BEGIN:DAYLIGHT
TZOFFSETFROM:+0100
TZOFFSETTO:+0200
TZNAME:CEST
DTSTART:20220327T010000
END:DAYLIGHT
BEGIN:STANDARD
TZOFFSETFROM:+0200
TZOFFSETTO:+0100
TZNAME:CET
DTSTART:20221030T010000
END:STANDARD
BEGIN:DAYLIGHT
TZOFFSETFROM:+0100
TZOFFSETTO:+0200
TZNAME:CEST
DTSTART:20230326T010000
END:DAYLIGHT
BEGIN:STANDARD
TZOFFSETFROM:+0200
TZOFFSETTO:+0100
TZNAME:CET
DTSTART:20231029T010000
END:STANDARD
BEGIN:DAYLIGHT
TZOFFSETFROM:+0100
TZOFFSETTO:+0200
TZNAME:CEST
DTSTART:20240331T010000
END:DAYLIGHT
BEGIN:STANDARD
TZOFFSETFROM:+0200
TZOFFSETTO:+0100
TZNAME:CET
DTSTART:20241027T010000
END:STANDARD
END:VTIMEZONE
BEGIN:VEVENT
DTSTART;TZID=Europe/Copenhagen:20230925T000000
DTEND;TZID=Europe/Copenhagen:20230925T235959
DTSTAMP:20260421T185504
CREATED:20230801T134737Z
LAST-MODIFIED:20230801T134737Z
UID:10000014-1695600000-1695686399@www.daff.dk
SUMMARY:ERFA møde: Klub
DESCRIPTION:Mere info følger.
URL:https://www.daff.dk/event/erfa-moede-klub/
LOCATION:Ukendt\, Danmark
CATEGORIES:Amerikansk Fodbold,Cheerleading
END:VEVENT
BEGIN:VEVENT
DTSTART;TZID=Europe/Copenhagen:20230927T000000
DTEND;TZID=Europe/Copenhagen:20230927T235959
DTSTAMP:20260421T185504
CREATED:20230801T134808Z
LAST-MODIFIED:20230801T134808Z
UID:10000015-1695772800-1695859199@www.daff.dk
SUMMARY:ERFA møde: Klub
DESCRIPTION:Mere info følger.
URL:https://www.daff.dk/event/erfa-moede-klub-2/
LOCATION:Ukendt\, Danmark
CATEGORIES:Amerikansk Fodbold,Cheerleading
END:VEVENT
BEGIN:VEVENT
DTSTART;TZID=Europe/Copenhagen:20230930T100000
DTEND;TZID=Europe/Copenhagen:20230930T170000
DTSTAMP:20260421T185504
CREATED:20230801T130618Z
LAST-MODIFIED:20230801T130618Z
UID:10000005-1696068000-1696093200@www.daff.dk
SUMMARY:Afsluttende Ungdomsstævne 2023
DESCRIPTION:
URL:https://www.daff.dk/event/afsluttende-ungdomsstaevne-2023/
LOCATION:Bøgeskov Idrætsanlæg Aarhus\, Engelundsvej 11\, Viby J\, 8260\, Danmark
CATEGORIES:Amerikansk Fodbold
END:VEVENT
BEGIN:VEVENT
DTSTART;TZID=Europe/Copenhagen:20231001T140000
DTEND;TZID=Europe/Copenhagen:20231001T190000
DTSTAMP:20260421T185504
CREATED:20230801T134852Z
LAST-MODIFIED:20230801T134852Z
UID:10000016-1696168800-1696186800@www.daff.dk
SUMMARY:Elming Bowl
DESCRIPTION:Mere info følger.
URL:https://www.daff.dk/event/elming-bowl/
LOCATION:Ukendt\, Danmark
CATEGORIES:Amerikansk Fodbold
END:VEVENT
END:VCALENDAR