BEGIN:VCALENDAR
VERSION:2.0
PRODID:-//Dansk Amerikansk Fodbold Forbund - ECPv6.15.20//NONSGML v1.0//EN
CALSCALE:GREGORIAN
METHOD:PUBLISH
X-ORIGINAL-URL:https://www.daff.dk
X-WR-CALDESC:Begivenheder for Dansk Amerikansk Fodbold Forbund
REFRESH-INTERVAL;VALUE=DURATION:PT1H
X-Robots-Tag:noindex
X-PUBLISHED-TTL:PT1H
BEGIN:VTIMEZONE
TZID:Europe/Copenhagen
BEGIN:DAYLIGHT
TZOFFSETFROM:+0100
TZOFFSETTO:+0200
TZNAME:CEST
DTSTART:20220327T010000
END:DAYLIGHT
BEGIN:STANDARD
TZOFFSETFROM:+0200
TZOFFSETTO:+0100
TZNAME:CET
DTSTART:20221030T010000
END:STANDARD
BEGIN:DAYLIGHT
TZOFFSETFROM:+0100
TZOFFSETTO:+0200
TZNAME:CEST
DTSTART:20230326T010000
END:DAYLIGHT
BEGIN:STANDARD
TZOFFSETFROM:+0200
TZOFFSETTO:+0100
TZNAME:CET
DTSTART:20231029T010000
END:STANDARD
BEGIN:DAYLIGHT
TZOFFSETFROM:+0100
TZOFFSETTO:+0200
TZNAME:CEST
DTSTART:20240331T010000
END:DAYLIGHT
BEGIN:STANDARD
TZOFFSETFROM:+0200
TZOFFSETTO:+0100
TZNAME:CET
DTSTART:20241027T010000
END:STANDARD
END:VTIMEZONE
BEGIN:VEVENT
DTSTART;TZID=Europe/Copenhagen:20231118T080000
DTEND;TZID=Europe/Copenhagen:20231118T170000
DTSTAMP:20260421T185510
CREATED:20231003T092852Z
LAST-MODIFIED:20231003T093004Z
UID:10000029-1700294400-1700326800@www.daff.dk
SUMMARY:Jule Cup
DESCRIPTION:Vi glæder os til at åbne dørene til Jule Cup i Randers Arena d. 18. november. Royal Cheer Aalborg er med til at arrangerer eventet. \nStream: Info følger \nKøb billetter er her: https://boldbillet.dk/show/event/julecup2023
URL:https://www.daff.dk/event/jule-cup/
LOCATION:Arena Randers\, Fyensgade 1\, Randers C\, 8900\, Danmark
CATEGORIES:Cheerleading
END:VEVENT
BEGIN:VEVENT
DTSTART;TZID=Europe/Copenhagen:20231119T110000
DTEND;TZID=Europe/Copenhagen:20231119T150000
DTSTAMP:20260421T185510
CREATED:20231003T090355Z
LAST-MODIFIED:20231003T101158Z
UID:10000028-1700391600-1700406000@www.daff.dk
SUMMARY:Årsmøde 2023
DESCRIPTION:Årets Årsmøde finder sted i 19. november i vest.
URL:https://www.daff.dk/event/aarsmoede-2023/
LOCATION:Randers
CATEGORIES:Amerikansk Fodbold,Cheerleading,Flag Football
END:VEVENT
END:VCALENDAR