BEGIN:VCALENDAR
VERSION:2.0
PRODID:-//Dansk Amerikansk Fodbold Forbund - ECPv6.15.20//NONSGML v1.0//EN
CALSCALE:GREGORIAN
METHOD:PUBLISH
X-WR-CALNAME:Dansk Amerikansk Fodbold Forbund
X-ORIGINAL-URL:https://www.daff.dk
X-WR-CALDESC:Begivenheder for Dansk Amerikansk Fodbold Forbund
REFRESH-INTERVAL;VALUE=DURATION:PT1H
X-Robots-Tag:noindex
X-PUBLISHED-TTL:PT1H
BEGIN:VTIMEZONE
TZID:Europe/Copenhagen
BEGIN:DAYLIGHT
TZOFFSETFROM:+0100
TZOFFSETTO:+0200
TZNAME:CEST
DTSTART:20230326T010000
END:DAYLIGHT
BEGIN:STANDARD
TZOFFSETFROM:+0200
TZOFFSETTO:+0100
TZNAME:CET
DTSTART:20231029T010000
END:STANDARD
BEGIN:DAYLIGHT
TZOFFSETFROM:+0100
TZOFFSETTO:+0200
TZNAME:CEST
DTSTART:20240331T010000
END:DAYLIGHT
BEGIN:STANDARD
TZOFFSETFROM:+0200
TZOFFSETTO:+0100
TZNAME:CET
DTSTART:20241027T010000
END:STANDARD
BEGIN:DAYLIGHT
TZOFFSETFROM:+0100
TZOFFSETTO:+0200
TZNAME:CEST
DTSTART:20250330T010000
END:DAYLIGHT
BEGIN:STANDARD
TZOFFSETFROM:+0200
TZOFFSETTO:+0100
TZNAME:CET
DTSTART:20251026T010000
END:STANDARD
END:VTIMEZONE
BEGIN:VEVENT
DTSTART;TZID=Europe/Copenhagen:20240205T000000
DTEND;TZID=Europe/Copenhagen:20240205T235959
DTSTAMP:20260421T142149
CREATED:20230906T174118Z
LAST-MODIFIED:20230906T174118Z
UID:10000025-1707091200-1707177599@www.daff.dk
SUMMARY:Postionstræner OL Øst & Vest
DESCRIPTION:DAFF’s positionstrænerkurser er for træneren på alle niveauer. Om du er helt ny eller har stor erfaring vil positionstrænerkurserne være noget for dig. På disse kurser sætter vi et detaljeret fokus på de enkelte positioner\, og forsøger at give et mere nuanceret billede af både teknik og taktik\, der har betydning for succes på positionen. Underviserne på kurserne vil være forskellige trænere\, der selv har arbejdet med positionen i flere år\, og som har lyst til at lære fra sig. \nFormål \nPositionstrænerkurset skal være med til at gøre dig bedre som teknisk og taktisk træner. Kurset vil derfor være med stort fokus på hvordan vi coacher og giver feedback samt hvilke overvejelser den enkelte position kræver. Du vil blive introduceret til teknikker\, taktikker og generelle tanker for den enkelte position. \nTilmelding sker på daff.nemtilmeld.dk. Der skal oplyses navn\, alder\, mail og klub på de personer\, der tilmeldes. \nOL Øst & Vest: mandag: d. 5. februar 2024\nTræning for små hold Øst & Vest: mandag : d. 16. februar 2024
URL:https://www.daff.dk/event/postionstraener-ol-oest-vest/
LOCATION:Idrættens Hus\, Brøndby Stadion 20\, Brøndby\, 2605\, Danmark
CATEGORIES:Amerikansk Fodbold
END:VEVENT
BEGIN:VEVENT
DTSTART;TZID=Europe/Copenhagen:20240205T080000
DTEND;TZID=Europe/Copenhagen:20240205T170000
DTSTAMP:20260421T142149
CREATED:20231128T112426Z
LAST-MODIFIED:20240124T125033Z
UID:10000033-1707120000-1707152400@www.daff.dk
SUMMARY:Talent- og eliteseminar
DESCRIPTION:Lørdag d. 13. januar 2024 afholder vi talent- og eliteseminar på Scandic i Odense kl. 10-16.\n\nSeminaret er primært for trænere\, der træner udøverne på landshold og højeste niveau i klubhold. Dog er andre trænere også meget velkomne\, hvis dagen kunne have interesse.\n\nTemaet for dagen er ”mentaltræning – med afsæt i praksis”\, og vi får besøg af Kasper Henriksen fra Mental Motion\, der vil komme med konkrete bud på hvordan man arbejder med det mentale aspekt hos jeres udøvere.\n\nDeadline for tilmelding er d. 15. december 2023. \nTilmeld dig her: https://daff.nemtilmeld.dk/944/
URL:https://www.daff.dk/event/talent-og-eliteseminar/
LOCATION:Scandic Odense\, Hvidkærvej 25\, Odense\, 5250\, Danmark
CATEGORIES:Amerikansk Fodbold
END:VEVENT
BEGIN:VEVENT
DTSTART;TZID=Europe/Copenhagen:20240210T090000
DTEND;TZID=Europe/Copenhagen:20240210T170000
DTSTAMP:20260421T142149
CREATED:20231128T111524Z
LAST-MODIFIED:20231213T160723Z
UID:10000032-1707555600-1707584400@www.daff.dk
SUMMARY:Super Bowl Åben flag football turnering: Amager
DESCRIPTION:Synes du at NFL er super fedt!? Er du også til lækre catches\, fantastiske kast med det ovale læder? - så er flag football noget for dig. \nFlag football er en afart af amerikansk fodbold\, hvor fokus er lagt på speed\, bevægelighed og teknik. Man spiller 5 mod 5 på en mindre bane og i stedet for at tackle fysisk\, tackler man ved hjælp af 2 såkaldte "flag" monteret på spillernes hofter. \nI Super Bowl-weekenden lørdag den 10. februar 2024 afholder DAFF igen åben flag football-turnering. Sidste år samledes 12 hold til en dag fyldt med hygge og god konkurrence\, så football-glæden var i top til Super Bowl. Turneringen er tiltænkt alle\, der gerne vil prøve kræfter med flag football. Det er ikke et krav\, at man har prøvet spillet før - turneringen er åben både for nybegyndere og erfarne spillere. Der er ingen begrænsninger i antallet af spillere med licens. Spillere\, der tidligere har haft flaglicens\, og aktive tacklespillere er mere end velkomne! \nDet er GRATIS at deltage. \nSted: Adresse: Gemmas Allé 203\, 2770 Kastrup \nTid: kl. 9:00 - 16:00. Alle spillere og hold mødes kl. 9.00. De første kampe starter kl. 9.30. \nTilmelding: \nHoldtilmelding: 1 holdrepræsentant tilmelder holdet via billettypen “HOLD”. Et hold skal bestå af minimum 6 spillere for at kunne tilmelde sig. \nFree agent-tilmelding: Enkeltpersoner tilmelder sig via billettypen “Free agent”. \nHvis man tilmelder sig som free agent\, vil man enten blive sat på et eksisterende hold eller danne et hold med andre free agents. \nTilmeldingsfrist: onsdag 7. februar 2024 \nTurneringen er for både mænd og kvinder. Der spilles på kunstgræs. \nDet er ikke et krav\, at man har prøvet spillet før. Eksisterende spillere er også meget velkomne til at deltage! \nDer vil være mulighed for at låne flag og bolde på stedet. \n  \nOBS: \nMedbring både mørk og hvid trøje. \nMan må kun spille i shorts/bukser UDEN lommer\, da man ellers risikerer nogle grimme fingerskader. \nDet er en god idé at spille i ensfarvede t-shirts\, men dette er ikke et krav. \nAldersgrænsen er minimum 14 år. \n 
URL:https://www.daff.dk/event/super-bowl-aaben-flag-football-turnering/
LOCATION:Gemmas Allé 203\, 2770 Kastrup\, Gemmas Allé 203\, Kastrup\, 2770\, Danmark
CATEGORIES:Amerikansk Fodbold,Flag Football
ATTACH;FMTTYPE=image/png:https://www.daff.dk/wp-content/uploads/2023/11/super-bowl-2.png
END:VEVENT
END:VCALENDAR