BEGIN:VCALENDAR
VERSION:2.0
PRODID:-//Dansk Amerikansk Fodbold Forbund - ECPv6.15.20//NONSGML v1.0//EN
CALSCALE:GREGORIAN
METHOD:PUBLISH
X-ORIGINAL-URL:https://www.daff.dk
X-WR-CALDESC:Begivenheder for Dansk Amerikansk Fodbold Forbund
REFRESH-INTERVAL;VALUE=DURATION:PT1H
X-Robots-Tag:noindex
X-PUBLISHED-TTL:PT1H
BEGIN:VTIMEZONE
TZID:Europe/Copenhagen
BEGIN:DAYLIGHT
TZOFFSETFROM:+0100
TZOFFSETTO:+0200
TZNAME:CEST
DTSTART:20230326T010000
END:DAYLIGHT
BEGIN:STANDARD
TZOFFSETFROM:+0200
TZOFFSETTO:+0100
TZNAME:CET
DTSTART:20231029T010000
END:STANDARD
BEGIN:DAYLIGHT
TZOFFSETFROM:+0100
TZOFFSETTO:+0200
TZNAME:CEST
DTSTART:20240331T010000
END:DAYLIGHT
BEGIN:STANDARD
TZOFFSETFROM:+0200
TZOFFSETTO:+0100
TZNAME:CET
DTSTART:20241027T010000
END:STANDARD
BEGIN:DAYLIGHT
TZOFFSETFROM:+0100
TZOFFSETTO:+0200
TZNAME:CEST
DTSTART:20250330T010000
END:DAYLIGHT
BEGIN:STANDARD
TZOFFSETFROM:+0200
TZOFFSETTO:+0100
TZNAME:CET
DTSTART:20251026T010000
END:STANDARD
END:VTIMEZONE
BEGIN:VEVENT
DTSTART;TZID=Europe/Copenhagen:20240323T080000
DTEND;TZID=Europe/Copenhagen:20240323T170000
DTSTAMP:20260421T163613
CREATED:20230906T171959Z
LAST-MODIFIED:20230906T171959Z
UID:10000022-1711180800-1711213200@www.daff.dk
SUMMARY:C-træner ØST/VEST
DESCRIPTION:Træner C er for den nye træner\, der enten er ny i trænergerningen\, en træner med 1-2 års erfaring\, eller en spiller der har kendskab til sporten gennem deltagelse. Træner C skal give træneren grundlæggende værktøjer til trænergerningen\, og give forståelse for hvordan trænerens egen filosofi har indflydelse på træningsmiljøet. \nFormål\nC-træner giver grundlæggende værktøjer til trænergerningen\, og giver forståelse for hvordan trænerens egen filosofi har indflydelse på trænings- og idrætsmiljøet i klubben. Du vil blandt andet skulle arbejde med trænerfilosofi\, AT- Aldersrelateret trænings\, sæson- og træningsplanlægning samt praktisk gennemførelse på banen. \nTilmelding \nTilmeldingen sker løbende på daff.nemtilmeld.dk. Der skal oplyses navn\, alder\, mail og klub på de personer\, der tilmeldes.
URL:https://www.daff.dk/event/c-traener-oest-vest/
LOCATION:Odense Badgers\, Falen 95\, Odense C\, 5000\, Danmark
CATEGORIES:Amerikansk Fodbold
END:VEVENT
BEGIN:VEVENT
DTSTART;TZID=Europe/Copenhagen:20240323T080000
DTEND;TZID=Europe/Copenhagen:20240324T170000
DTSTAMP:20260421T163613
CREATED:20230906T173747Z
LAST-MODIFIED:20230906T173747Z
UID:10000024-1711180800-1711299600@www.daff.dk
SUMMARY:A-træner
DESCRIPTION:Træner A er for den erfarne træner\, der har været træner i 5-7 år\, og som har arbejdet med trænergerningen på flere niveauer. Træner A har til formål at give træneren yderligere kompetencer inden for trænergerningen med et øget fokus på præstationer og konkurrence. Deltagere på træner A vil bl.a. skulle arbejde med præstationsmiljøer. \nFormål \nTræner A har til formål at gøre den erfarne træner mere reflekterende omkring sin egen praksis. Dette gøres for at klæde træneren endnu bedre på til arbejdet med målgrupper der arbejder i et præstationsmiljø. Kurset vil forsat tage udgangspunkt i træneres filosofi og hvordan denne spiller sammen med det omkring liggende miljø\, herunder fokus på b.la. spiller udvikling\, sportspsykologi og træningsoptimering. \nFor at færdiggøre den fulde træner A skal alle positionstrænerkurser. OBS: DIF T2 gennemføres på eget initiativ. \nTid og sted \nKurset DAFF-del\, gennemføres på weekend fra fredag kl. 18.00 til søndag ca. kl. 12.00.\nSamt to online møder. Derudover vil der være to supervisions sessioner\, en til træning og en til kamp. \nA – Trænerkursus Weekend 23-25. marts 2024\nA – Trænerkursus Online møde 1: 1. maj 2024\nA – Trænerkursus Online møde 2: 2. september 2024 \nTilmelding skal ske på https://daff.nemtilmeld.dk/.
URL:https://www.daff.dk/event/a-traener/
LOCATION:BGI\, Gramvej 3\, Hornsyld\, 8783\, Danmark
CATEGORIES:Amerikansk Fodbold
END:VEVENT
END:VCALENDAR