BEGIN:VCALENDAR
VERSION:2.0
PRODID:-//Dansk Amerikansk Fodbold Forbund - ECPv6.15.20//NONSGML v1.0//EN
CALSCALE:GREGORIAN
METHOD:PUBLISH
X-WR-CALNAME:Dansk Amerikansk Fodbold Forbund
X-ORIGINAL-URL:https://www.daff.dk
X-WR-CALDESC:Begivenheder for Dansk Amerikansk Fodbold Forbund
REFRESH-INTERVAL;VALUE=DURATION:PT1H
X-Robots-Tag:noindex
X-PUBLISHED-TTL:PT1H
BEGIN:VTIMEZONE
TZID:Europe/Copenhagen
BEGIN:DAYLIGHT
TZOFFSETFROM:+0100
TZOFFSETTO:+0200
TZNAME:CEST
DTSTART:20230326T010000
END:DAYLIGHT
BEGIN:STANDARD
TZOFFSETFROM:+0200
TZOFFSETTO:+0100
TZNAME:CET
DTSTART:20231029T010000
END:STANDARD
BEGIN:DAYLIGHT
TZOFFSETFROM:+0100
TZOFFSETTO:+0200
TZNAME:CEST
DTSTART:20240331T010000
END:DAYLIGHT
BEGIN:STANDARD
TZOFFSETFROM:+0200
TZOFFSETTO:+0100
TZNAME:CET
DTSTART:20241027T010000
END:STANDARD
BEGIN:DAYLIGHT
TZOFFSETFROM:+0100
TZOFFSETTO:+0200
TZNAME:CEST
DTSTART:20250330T010000
END:DAYLIGHT
BEGIN:STANDARD
TZOFFSETFROM:+0200
TZOFFSETTO:+0100
TZNAME:CET
DTSTART:20251026T010000
END:STANDARD
END:VTIMEZONE
BEGIN:VEVENT
DTSTART;TZID=Europe/Copenhagen:20240413T113000
DTEND;TZID=Europe/Copenhagen:20240413T170000
DTSTAMP:20260421T160924
CREATED:20240319T095503Z
LAST-MODIFIED:20240319T134932Z
UID:10000054-1713007800-1713027600@www.daff.dk
SUMMARY:Try Out til Herrelandsholdet
DESCRIPTION:OL 2028 er i sigtet for Herrelandsholdet \nI 2028 er flag football på OL-programmet – og vejen til OL skydes i gang for Herrelandsholdet til VM i Finland i 2024! Spænd dine sko\, kast dig ud i det\, og vær med til at skrive historie sammen med Danmarks Herrelandshold i flag football! Som det første skridt mod OL står VM for døren\, og det er vores chance for at vise verden\, hvad Danmark kan! \nTidspunkt: Lørdag d. 13. april kl. 11.30 - 17.00 \nSted: Valby Idrætspark - græsbanerne \nVi har brug for dig! Ja\, dig! Har du en gnist af interesse og vil prøve kræfter med landsholdet\, er du inviteret til at deltage i vores åbne og gratis try out. Det er din mulighed for at prøve dine evner af på internationalt niveau og være med til at forme fremtiden for dansk flag football! \nHvad er åben try out? \nVi holder try out/åben træning lørdag d. 13. april\, hvor det er muligt at vise sine færdigheder og blive en del af bruttotruppen. \nDagens program byder på en spændende todelt oplevelse! Vi begynder med en række tekniske og taktiske øvelser\, hvor vi finpudser vores færdigheder og strategier. Efter en velfortjent kort pause vil spillerne blive opdelt i hold\, og så går vi over til at spille scrimmage! \nHvem er det for? \nVi opfordrer alle\, der er interesserede i at blive en del af Herrelandsholdet i flag football (i år eller på sigt) til at deltage. \nSpillere\, hvis fødselsdato falder efter 2006\, bedes venligst kontakte Head Coach Jonas Christiansen på jc@daff.dk inden de tilmelder sig. Ligeledes opfordres spillere\, der brænder for at blive en del af Herrelandsholdet i flag football\, men som desværre er forhindret lørdag den 13. april\, til også at kontakte Head Coach Jonas Christiansen. \nTilmelding \nTilmeld dig her: https://daff.nemtilmeld.dk/1003/ \nSpørgsmål \nSpørgsmål kan stilles til Head Coach Jonas Christiansen på jc@daff.dk eller 60 24 30 50
URL:https://www.daff.dk/event/tryout-herrelandsholdet/
LOCATION:Valby Idrætspark
CATEGORIES:Flag Football
END:VEVENT
BEGIN:VEVENT
DTSTART;TZID=Europe/Copenhagen:20240414T090000
DTEND;TZID=Europe/Copenhagen:20240414T143000
DTSTAMP:20260421T160924
CREATED:20240313T220941Z
LAST-MODIFIED:20240313T221130Z
UID:10000052-1713085200-1713105000@www.daff.dk
SUMMARY:Medickursus Basis+ (vest)
DESCRIPTION:DAFF udbyder nu et basis+ medickursus som giver den deltagende kursist kompetencer til at agere medic til træning\, kampe\, konkurrencer og andre sportsarrangementer. Kurset er målrettet den både den mindre erfarne og erfarne\, hvilket både kan være udøvere\, forældre og trænere. \nKurset vil have til formål at give kursisten kompetencer til at vurdere omfanget af den akutte skade\, samt hvordan der skal handles på den enkelte skade efterfølgende. \nIndhold\n\nIntro til medicrollen og ”den gode medickultur”\nHoved-nakke skader\nAkutte skader af led fx ankel og hånd\nNår skaden er sket med fokus muskel- og led skader\nTapeteknikker\n\nUndervisere\n\nJosephine Olsen Kipp\, læge og medic på det danske Herrelandshold i amerikansk fodbold.\n\nEr kurset noget for mig?\n\nKurset er målrettet den mindre erfarne eller nye medic\, hvilket både kan være  en udøvere\, forældre eller trænere. \nVi har haft flere sygeplejesker og fysioterapeuter på basiskurset\, som alle fortæller at de har fået noget ud af kurset. Så har du ikke den store erfaring med medic-rollen og faget\, så er dette kursus lige noget for dig. \n\nTid og sted\nAarhus - Søndag d. 14. april 2024 kl. 09:00 til 14:30 (Endelig lokation) \nBrøndby - Lørdag d. 6. april 2024 kl. 10:00 til 15:30 \nDAFF vil være værter\, og sørger for en sandwich og vand. \nVi forbeholder os retten til at aflyse kurset\, ved for få tilmeldte. \nTilmelding\nTilmeld dig kurset her: https://daff.nemtilmeld.dk/
URL:https://www.daff.dk/event/medickursus-basis-vest/
LOCATION:Aarhus
CATEGORIES:Amerikansk Fodbold,Cheerleading,Flag Football
ATTACH;FMTTYPE=image/png:https://www.daff.dk/wp-content/uploads/2023/09/DAFF-logo.png
END:VEVENT
END:VCALENDAR